BEGIN:VCALENDAR
VERSION:2.0
PRODID:-//S.A.R.A - Sharing America&#039;s Resources Abroad - ECPv6.15.20//NONSGML v1.0//EN
CALSCALE:GREGORIAN
METHOD:PUBLISH
X-ORIGINAL-URL:https://sara-mission.org
X-WR-CALDESC:Events for S.A.R.A - Sharing America&#039;s Resources Abroad
REFRESH-INTERVAL;VALUE=DURATION:PT1H
X-Robots-Tag:noindex
X-PUBLISHED-TTL:PT1H
BEGIN:VTIMEZONE
TZID:America/New_York
BEGIN:DAYLIGHT
TZOFFSETFROM:-0500
TZOFFSETTO:-0400
TZNAME:EDT
DTSTART:20190310T070000
END:DAYLIGHT
BEGIN:STANDARD
TZOFFSETFROM:-0400
TZOFFSETTO:-0500
TZNAME:EST
DTSTART:20191103T060000
END:STANDARD
BEGIN:DAYLIGHT
TZOFFSETFROM:-0500
TZOFFSETTO:-0400
TZNAME:EDT
DTSTART:20200308T070000
END:DAYLIGHT
BEGIN:STANDARD
TZOFFSETFROM:-0400
TZOFFSETTO:-0500
TZNAME:EST
DTSTART:20201101T060000
END:STANDARD
BEGIN:DAYLIGHT
TZOFFSETFROM:-0500
TZOFFSETTO:-0400
TZNAME:EDT
DTSTART:20210314T070000
END:DAYLIGHT
BEGIN:STANDARD
TZOFFSETFROM:-0400
TZOFFSETTO:-0500
TZNAME:EST
DTSTART:20211107T060000
END:STANDARD
END:VTIMEZONE
BEGIN:VEVENT
DTSTART;TZID=America/New_York:20200418T133000
DTEND;TZID=America/New_York:20200418T170000
DTSTAMP:20260423T102021
CREATED:20200208T144552Z
LAST-MODIFIED:20200208T211518Z
UID:986-1587216600-1587229200@sara-mission.org
SUMMARY:Board Meeting
DESCRIPTION:All are welcome
URL:https://sara-mission.org/event/board-meeting/
LOCATION:Heartland Conference U.C.C\, 6161 Busch Boulevard suite 100
CATEGORIES:Meeting
END:VEVENT
END:VCALENDAR